Package: rnaEditr Version: 1.20.0 Command: /Library/Frameworks/R.framework/Resources/bin/R CMD build --keep-empty-dirs --no-resave-data rnaEditr StartedAt: 2025-10-30 17:32:38 -0400 (Thu, 30 Oct 2025) EndedAt: 2025-10-30 17:33:03 -0400 (Thu, 30 Oct 2025) EllapsedTime: 25.3 seconds RetCode: 0 Status: OK PackageFile: rnaEditr_1.20.0.tar.gz PackageFileSize: 1.085 MiB