Package: rnaEditr Version: 1.20.0 Command: rm -rf rnaEditr.buildbin-libdir && mkdir rnaEditr.buildbin-libdir && /Users/biocbuild/BBS/utils/build-universal.sh rnaEditr_1.20.0.tar.gz /Library/Frameworks/R.framework/Resources/bin/R rnaEditr.buildbin-libdir StartedAt: 2025-10-30 05:38:15 -0400 (Thu, 30 Oct 2025) EndedAt: 2025-10-30 05:38:32 -0400 (Thu, 30 Oct 2025) EllapsedTime: 17.2 seconds RetCode: 0 Status: OK PackageFile: rnaEditr_1.20.0.tgz PackageFileSize: 1.045 MiB