Package: rnaEditr Version: 1.20.0 Maintainer: Lanyu Zhang MaintainerEmail: jennyzly2016 at gmail.com git_url: https://git.bioconductor.org/packages/rnaEditr git_branch: RELEASE_3_22 git_last_commit: 326b028 git_last_commit_date: 2025-10-29 11:03:10 -0400 (Wed, 29 Oct 2025)