Package: rmspc Version: 1.15.0 Command: /home/biocbuild/bbs-3.22-bioc/R/bin/R CMD INSTALL rmspc StartedAt: 2025-10-27 15:31:05 -0400 (Mon, 27 Oct 2025) EndedAt: 2025-10-27 15:31:35 -0400 (Mon, 27 Oct 2025) EllapsedTime: 29.7 seconds RetCode: 0 Status: OK