Package: rmspc Version: 1.16.0 Command: /Library/Frameworks/R.framework/Resources/bin/R CMD build --keep-empty-dirs --no-resave-data rmspc StartedAt: 2025-11-10 17:32:59 -0500 (Mon, 10 Nov 2025) EndedAt: 2025-11-10 17:33:38 -0500 (Mon, 10 Nov 2025) EllapsedTime: 38.4 seconds RetCode: 0 Status: OK PackageFile: rmspc_1.16.0.tar.gz PackageFileSize: 2.176 MiB