Package: rigvf Version: 1.1.3 Command: /home/biocbuild/bbs-3.22-bioc/R/bin/R CMD INSTALL rigvf StartedAt: 2025-10-24 15:26:05 -0400 (Fri, 24 Oct 2025) EndedAt: 2025-10-24 15:26:15 -0400 (Fri, 24 Oct 2025) EllapsedTime: 9.7 seconds RetCode: 0 Status: OK