Package: rigvf Version: 1.1.3 Command: /home/biocbuild/bbs-3.22-bioc/R/bin/R CMD build --keep-empty-dirs --no-resave-data --md5 rigvf StartedAt: 2025-10-24 19:47:48 -0400 (Fri, 24 Oct 2025) EndedAt: 2025-10-24 19:48:20 -0400 (Fri, 24 Oct 2025) EllapsedTime: 32.0 seconds RetCode: 0 Status: OK PackageFile: rigvf_1.1.3.tar.gz PackageFileSize: 211.3 KiB