Package: rifiComparative Version: 1.9.0 Command: /home/biocbuild/bbs-3.22-bioc/R/bin/R CMD INSTALL rifiComparative StartedAt: 2025-10-24 15:41:08 -0400 (Fri, 24 Oct 2025) EndedAt: 2025-10-24 15:41:42 -0400 (Fri, 24 Oct 2025) EllapsedTime: 34.4 seconds RetCode: 0 Status: OK