Package: rifiComparative Version: 1.10.0 Command: /Library/Frameworks/R.framework/Resources/bin/R CMD INSTALL rifiComparative StartedAt: 2025-10-31 15:21:11 -0400 (Fri, 31 Oct 2025) EndedAt: 2025-10-31 15:21:26 -0400 (Fri, 31 Oct 2025) EllapsedTime: 15.0 seconds RetCode: 0 Status: OK