Package: rifiComparative Version: 1.10.0 Command: /Library/Frameworks/R.framework/Resources/bin/R CMD build --keep-empty-dirs --no-resave-data rifiComparative StartedAt: 2025-10-30 17:31:26 -0400 (Thu, 30 Oct 2025) EndedAt: 2025-10-30 17:33:49 -0400 (Thu, 30 Oct 2025) EllapsedTime: 142.6 seconds RetCode: 0 Status: OK PackageFile: rifiComparative_1.10.0.tar.gz PackageFileSize: 3.149 MiB