Package: rifiComparative Version: 1.10.0 Command: rm -rf rifiComparative.buildbin-libdir && mkdir rifiComparative.buildbin-libdir && /Users/biocbuild/BBS/utils/build-universal.sh rifiComparative_1.10.0.tar.gz /Library/Frameworks/R.framework/Resources/bin/R rifiComparative.buildbin-libdir StartedAt: 2025-11-04 23:17:11 -0500 (Tue, 04 Nov 2025) EndedAt: 2025-11-04 23:17:27 -0500 (Tue, 04 Nov 2025) EllapsedTime: 16.2 seconds RetCode: 0 Status: OK PackageFile: rifiComparative_1.10.0.tgz PackageFileSize: 2.438 MiB