Package: rifi Version: 1.13.1 Command: /home/biocbuild/bbs-3.22-bioc/R/bin/R CMD INSTALL rifi StartedAt: 2025-10-24 15:37:54 -0400 (Fri, 24 Oct 2025) EndedAt: 2025-10-24 15:38:33 -0400 (Fri, 24 Oct 2025) EllapsedTime: 38.6 seconds RetCode: 0 Status: OK