Package: ribosomeProfilingQC Version: 1.21.2 Command: /home/biocbuild/bbs-3.22-bioc/R/bin/R CMD INSTALL ribosomeProfilingQC StartedAt: 2025-10-24 16:05:00 -0400 (Fri, 24 Oct 2025) EndedAt: 2025-10-24 16:05:51 -0400 (Fri, 24 Oct 2025) EllapsedTime: 51.4 seconds RetCode: 0 Status: OK