Package: ribosomeProfilingQC Version: 1.21.2 Command: /home/biocbuild/bbs-3.22-bioc/R/bin/R CMD build --keep-empty-dirs --no-resave-data --md5 ribosomeProfilingQC StartedAt: 2025-10-24 19:47:23 -0400 (Fri, 24 Oct 2025) EndedAt: 2025-10-24 19:51:45 -0400 (Fri, 24 Oct 2025) EllapsedTime: 262.2 seconds RetCode: 0 Status: OK PackageFile: ribosomeProfilingQC_1.21.2.tar.gz PackageFileSize: 3.538 MiB