Package: ribosomeProfilingQC Version: 1.22.0 Command: /Library/Frameworks/R.framework/Resources/bin/R CMD INSTALL ribosomeProfilingQC StartedAt: 2025-10-31 15:53:55 -0400 (Fri, 31 Oct 2025) EndedAt: 2025-10-31 15:55:07 -0400 (Fri, 31 Oct 2025) EllapsedTime: 71.6 seconds RetCode: 0 Status: OK