Package: ribosomeProfilingQC Version: 1.22.0 Command: /Library/Frameworks/R.framework/Resources/bin/R CMD build --keep-empty-dirs --no-resave-data ribosomeProfilingQC StartedAt: 2025-10-31 18:31:32 -0400 (Fri, 31 Oct 2025) EndedAt: 2025-10-31 18:36:35 -0400 (Fri, 31 Oct 2025) EllapsedTime: 302.4 seconds RetCode: 0 Status: OK PackageFile: ribosomeProfilingQC_1.22.0.tar.gz PackageFileSize: 3.391 MiB