Package: ribosomeProfilingQC Version: 1.21.2 Command: rm -rf ribosomeProfilingQC.buildbin-libdir && mkdir ribosomeProfilingQC.buildbin-libdir && /Users/biocbuild/BBS/utils/build-universal.sh ribosomeProfilingQC_1.21.2.tar.gz /Library/Frameworks/R.framework/Resources/bin/R ribosomeProfilingQC.buildbin-libdir StartedAt: 2025-10-24 23:16:36 -0400 (Fri, 24 Oct 2025) EndedAt: 2025-10-24 23:17:00 -0400 (Fri, 24 Oct 2025) EllapsedTime: 23.4 seconds RetCode: 0 Status: OK PackageFile: ribosomeProfilingQC_1.21.2.tgz PackageFileSize: 3.816 MiB