Package: rhdf5client Version: 1.31.2 Command: /Library/Frameworks/R.framework/Resources/bin/R CMD INSTALL rhdf5client StartedAt: 2025-10-24 15:11:02 -0400 (Fri, 24 Oct 2025) EndedAt: 2025-10-24 15:11:10 -0400 (Fri, 24 Oct 2025) EllapsedTime: 8.1 seconds RetCode: 0 Status: OK