Package: rhdf5client Version: 1.31.2 Command: /Library/Frameworks/R.framework/Resources/bin/R CMD build --keep-empty-dirs --no-resave-data rhdf5client StartedAt: 2025-10-24 17:31:05 -0400 (Fri, 24 Oct 2025) EndedAt: 2025-10-24 17:31:19 -0400 (Fri, 24 Oct 2025) EllapsedTime: 14.1 seconds RetCode: 0 Status: OK PackageFile: rhdf5client_1.31.2.tar.gz PackageFileSize: 532.1 KiB