Package: rhdf5client Version: 1.31.2 Command: rm -rf rhdf5client.buildbin-libdir && mkdir rhdf5client.buildbin-libdir && /Users/biocbuild/BBS/utils/build-universal.sh rhdf5client_1.31.2.tar.gz /Library/Frameworks/R.framework/Resources/bin/R rhdf5client.buildbin-libdir StartedAt: 2025-10-24 23:16:23 -0400 (Fri, 24 Oct 2025) EndedAt: 2025-10-24 23:16:32 -0400 (Fri, 24 Oct 2025) EllapsedTime: 9.2 seconds RetCode: 0 Status: OK PackageFile: rhdf5client_1.31.2.tgz PackageFileSize: 984.7 KiB