Package: rhdf5 Version: 2.53.6 Command: /home/biocbuild/bbs-3.22-bioc/R/bin/R CMD INSTALL rhdf5 StartedAt: 2025-10-24 15:17:27 -0400 (Fri, 24 Oct 2025) EndedAt: 2025-10-24 15:18:12 -0400 (Fri, 24 Oct 2025) EllapsedTime: 45.1 seconds RetCode: 0 Status: OK