Package: rgoslin Version: 1.13.0 Command: /home/biocbuild/bbs-3.22-bioc/R/bin/R CMD INSTALL rgoslin StartedAt: 2025-10-27 15:11:05 -0400 (Mon, 27 Oct 2025) EndedAt: 2025-10-27 15:13:49 -0400 (Mon, 27 Oct 2025) EllapsedTime: 163.9 seconds RetCode: 0 Status: OK