Package: rfaRm Version: 1.21.0 Command: /home/biocbuild/bbs-3.22-bioc/R/bin/R CMD INSTALL rfaRm StartedAt: 2025-10-24 15:47:19 -0400 (Fri, 24 Oct 2025) EndedAt: 2025-10-24 15:47:32 -0400 (Fri, 24 Oct 2025) EllapsedTime: 12.7 seconds RetCode: 0 Status: OK