Package: rfaRm Version: 1.22.0 Command: /home/biocbuild/bbs-3.22-bioc/R/bin/R CMD check --install=check:rfaRm.install-out.txt --library=/home/biocbuild/bbs-3.22-bioc/R/site-library --timings rfaRm_1.22.0.tar.gz StartedAt: 2025-11-07 03:13:21 -0500 (Fri, 07 Nov 2025) EndedAt: 2025-11-07 03:16:15 -0500 (Fri, 07 Nov 2025) EllapsedTime: 174.3 seconds RetCode: 0 Status: OK CheckDir: rfaRm.Rcheck Warnings: 0