Package: rfaRm Version: 1.21.0 Command: /home/biocbuild/bbs-3.22-bioc/R/bin/R CMD build --keep-empty-dirs --no-resave-data --md5 rfaRm StartedAt: 2025-10-24 19:44:51 -0400 (Fri, 24 Oct 2025) EndedAt: 2025-10-24 19:45:39 -0400 (Fri, 24 Oct 2025) EllapsedTime: 48.1 seconds RetCode: 0 Status: OK PackageFile: rfaRm_1.21.0.tar.gz PackageFileSize: 760.9 KiB