Package: rfaRm Version: 1.21.0 Command: /Library/Frameworks/R.framework/Resources/bin/R CMD INSTALL rfaRm StartedAt: 2025-10-24 15:41:18 -0400 (Fri, 24 Oct 2025) EndedAt: 2025-10-24 15:41:36 -0400 (Fri, 24 Oct 2025) EllapsedTime: 17.6 seconds RetCode: 0 Status: OK