Package: rfaRm Version: 1.21.0 Command: /Library/Frameworks/R.framework/Resources/bin/R CMD build --keep-empty-dirs --no-resave-data rfaRm StartedAt: 2025-10-24 18:27:42 -0400 (Fri, 24 Oct 2025) EndedAt: 2025-10-24 18:28:30 -0400 (Fri, 24 Oct 2025) EllapsedTime: 48.1 seconds RetCode: 0 Status: OK PackageFile: rfaRm_1.21.0.tar.gz PackageFileSize: 562 KiB