Package: rfaRm Version: 1.21.0 Command: rm -rf rfaRm.buildbin-libdir && mkdir rfaRm.buildbin-libdir && /Users/biocbuild/BBS/utils/build-universal.sh rfaRm_1.21.0.tar.gz /Library/Frameworks/R.framework/Resources/bin/R rfaRm.buildbin-libdir StartedAt: 2025-10-25 01:58:56 -0400 (Sat, 25 Oct 2025) EndedAt: 2025-10-25 01:59:15 -0400 (Sat, 25 Oct 2025) EllapsedTime: 19.4 seconds RetCode: 0 Status: OK PackageFile: rfaRm_1.21.0.tgz PackageFileSize: 598.1 KiB