############################################################################## ############################################################################## ### ### Running command: ### ### /Library/Frameworks/R.framework/Resources/bin/R CMD build --keep-empty-dirs --no-resave-data rfaRm ### ############################################################################## ############################################################################## * checking for file ‘rfaRm/DESCRIPTION’ ... OK * preparing ‘rfaRm’: * checking DESCRIPTION meta-information ... OK * installing the package to build vignettes ----------------------------------- * installing *source* package ‘rfaRm’ ... ** this is package ‘rfaRm’ version ‘1.21.0’ ** using staged installation ** R ** inst ** byte-compile and prepare package for lazy loading ** help *** installing help indices ** building package indices ** installing vignettes ** testing if installed package can be loaded from temporary location Warning in readLines(clanMembershipCon) : URL 'https://ftp.ebi.ac.uk/pub/databases/Rfam/CURRENT/database_files/clan_membership.txt.gz': status was 'SSL connect error' Error: package or namespace load failed for ‘rfaRm’: .onLoad failed in loadNamespace() for 'rfaRm', details: call: readLines(clanMembershipCon) error: cannot open the connection to 'https://ftp.ebi.ac.uk/pub/databases/Rfam/CURRENT/database_files/clan_membership.txt.gz' Error: loading failed Execution halted ERROR: loading failed * removing ‘/private/var/folders/r0/l4fjk6cj5xj0j3brt4bplpl40000gt/T/RtmpxPoCmD/Rinst112ee2eb5c286/rfaRm’ ----------------------------------- ERROR: package installation failed