Package: rfPred Version: 1.47.1 Command: /home/biocbuild/bbs-3.22-bioc/R/bin/R CMD build --keep-empty-dirs --no-resave-data --md5 rfPred StartedAt: 2025-10-24 19:45:12 -0400 (Fri, 24 Oct 2025) EndedAt: 2025-10-24 19:45:30 -0400 (Fri, 24 Oct 2025) EllapsedTime: 18.0 seconds RetCode: 0 Status: OK PackageFile: rfPred_1.47.1.tar.gz PackageFileSize: 1.053 MiB