Package: rfPred Version: 1.47.1 Command: /Library/Frameworks/R.framework/Resources/bin/R CMD build --keep-empty-dirs --no-resave-data rfPred StartedAt: 2025-10-24 17:30:37 -0400 (Fri, 24 Oct 2025) EndedAt: 2025-10-24 17:30:46 -0400 (Fri, 24 Oct 2025) EllapsedTime: 9.1 seconds RetCode: 0 Status: OK PackageFile: rfPred_1.47.1.tar.gz PackageFileSize: 1.053 MiB