Package: retrofit Version: 1.9.0 Command: /home/biocbuild/bbs-3.22-bioc/R/bin/R CMD INSTALL retrofit StartedAt: 2025-10-27 15:05:17 -0400 (Mon, 27 Oct 2025) EndedAt: 2025-10-27 15:05:55 -0400 (Mon, 27 Oct 2025) EllapsedTime: 38.1 seconds RetCode: 0 Status: OK