Package: retrofit Version: 1.9.0 Command: /Library/Frameworks/R.framework/Resources/bin/R CMD INSTALL retrofit StartedAt: 2025-10-27 15:01:40 -0400 (Mon, 27 Oct 2025) EndedAt: 2025-10-27 15:01:54 -0400 (Mon, 27 Oct 2025) EllapsedTime: 13.4 seconds RetCode: 0 Status: OK