Package: retrofit Version: 1.9.0 Command: /Library/Frameworks/R.framework/Resources/bin/R CMD build --keep-empty-dirs --no-resave-data retrofit StartedAt: 2025-10-26 17:42:48 -0400 (Sun, 26 Oct 2025) EndedAt: 2025-10-26 17:43:06 -0400 (Sun, 26 Oct 2025) EllapsedTime: 18.2 seconds RetCode: 1 Status: ERROR PackageFile: None PackageFileSize: NA