Package: retrofit Version: 1.9.0 Command: rm -rf retrofit.buildbin-libdir && mkdir retrofit.buildbin-libdir && /Users/biocbuild/BBS/utils/build-universal.sh retrofit_1.9.0.tar.gz /Library/Frameworks/R.framework/Resources/bin/R retrofit.buildbin-libdir StartedAt: 2025-10-27 23:15:39 -0400 (Mon, 27 Oct 2025) EndedAt: 2025-10-27 23:15:46 -0400 (Mon, 27 Oct 2025) EllapsedTime: 7.1 seconds RetCode: 0 Status: OK PackageFile: retrofit_1.9.0.tgz PackageFileSize: 4.641 MiB