Package: regutools Version: 1.21.0 Command: /home/biocbuild/bbs-3.22-bioc/R/bin/R CMD build --keep-empty-dirs --no-resave-data --md5 regutools StartedAt: 2025-10-24 19:43:48 -0400 (Fri, 24 Oct 2025) EndedAt: 2025-10-24 19:45:12 -0400 (Fri, 24 Oct 2025) EllapsedTime: 84.1 seconds RetCode: 0 Status: OK PackageFile: regutools_1.21.0.tar.gz PackageFileSize: 375.6 KiB