Package: regsplice Version: 1.36.0 Command: /home/biocbuild/bbs-3.22-bioc/R/bin/R CMD INSTALL regsplice StartedAt: 2025-11-20 16:14:40 -0500 (Thu, 20 Nov 2025) EndedAt: 2025-11-20 16:15:05 -0500 (Thu, 20 Nov 2025) EllapsedTime: 24.3 seconds RetCode: 0 Status: OK