Package: regsplice Version: 1.36.0 Command: /home/biocbuild/bbs-3.22-bioc/R/bin/R CMD build --keep-empty-dirs --no-resave-data --md5 regsplice StartedAt: 2025-11-20 20:23:56 -0500 (Thu, 20 Nov 2025) EndedAt: 2025-11-20 20:24:45 -0500 (Thu, 20 Nov 2025) EllapsedTime: 49.0 seconds RetCode: 0 Status: OK PackageFile: regsplice_1.36.0.tar.gz PackageFileSize: 289.3 KiB