Package: recoup Version: 1.37.1 Command: /home/biocbuild/bbs-3.22-bioc/R/bin/R CMD INSTALL recoup StartedAt: 2025-10-27 15:41:42 -0400 (Mon, 27 Oct 2025) EndedAt: 2025-10-27 15:42:27 -0400 (Mon, 27 Oct 2025) EllapsedTime: 45.8 seconds RetCode: 0 Status: OK