Package: recoup Version: 1.37.1 Command: /home/biocbuild/bbs-3.22-bioc/R/bin/R CMD build --keep-empty-dirs --no-resave-data --md5 recoup StartedAt: 2025-10-27 19:34:28 -0400 (Mon, 27 Oct 2025) EndedAt: 2025-10-27 19:35:28 -0400 (Mon, 27 Oct 2025) EllapsedTime: 60.1 seconds RetCode: 0 Status: OK PackageFile: recoup_1.37.1.tar.gz PackageFileSize: 2.254 MiB