Package: recoup Version: 1.38.0 Command: /Library/Frameworks/R.framework/Resources/bin/R CMD build --keep-empty-dirs --no-resave-data recoup StartedAt: 2025-11-10 17:29:07 -0500 (Mon, 10 Nov 2025) EndedAt: 2025-11-10 17:29:34 -0500 (Mon, 10 Nov 2025) EllapsedTime: 27.3 seconds RetCode: 0 Status: OK PackageFile: recoup_1.38.0.tar.gz PackageFileSize: 2.252 MiB