Package: recoup Version: 1.38.0 Command: rm -rf recoup.buildbin-libdir && mkdir recoup.buildbin-libdir && /Users/biocbuild/BBS/utils/build-universal.sh recoup_1.38.0.tar.gz /Library/Frameworks/R.framework/Resources/bin/R recoup.buildbin-libdir StartedAt: 2025-11-10 23:32:55 -0500 (Mon, 10 Nov 2025) EndedAt: 2025-11-10 23:33:16 -0500 (Mon, 10 Nov 2025) EllapsedTime: 20.4 seconds RetCode: 0 Status: OK PackageFile: recoup_1.38.0.tgz PackageFileSize: 2.692 MiB