Package: recount3 Version: 1.19.3 Command: /home/biocbuild/bbs-3.22-bioc/R/bin/R CMD INSTALL recount3 StartedAt: 2025-10-24 15:43:15 -0400 (Fri, 24 Oct 2025) EndedAt: 2025-10-24 15:43:48 -0400 (Fri, 24 Oct 2025) EllapsedTime: 33.2 seconds RetCode: 0 Status: OK