Package: recount3 Version: 1.19.3 Command: /home/biocbuild/bbs-3.22-bioc/R/bin/R CMD build --keep-empty-dirs --no-resave-data --md5 recount3 StartedAt: 2025-10-24 19:42:39 -0400 (Fri, 24 Oct 2025) EndedAt: 2025-10-24 19:44:44 -0400 (Fri, 24 Oct 2025) EllapsedTime: 125.1 seconds RetCode: 0 Status: OK PackageFile: recount3_1.19.3.tar.gz PackageFileSize: 564.5 KiB