Package: recount Version: 1.35.0 Command: /home/biocbuild/bbs-3.22-bioc/R/bin/R CMD INSTALL recount StartedAt: 2025-10-24 16:09:40 -0400 (Fri, 24 Oct 2025) EndedAt: 2025-10-24 16:10:52 -0400 (Fri, 24 Oct 2025) EllapsedTime: 72.8 seconds RetCode: 0 Status: OK