Package: reconsi Version: 1.22.0 Command: /home/biocbuild/bbs-3.22-bioc/R/bin/R CMD INSTALL reconsi StartedAt: 2025-11-16 15:23:07 -0500 (Sun, 16 Nov 2025) EndedAt: 2025-11-16 15:23:27 -0500 (Sun, 16 Nov 2025) EllapsedTime: 19.9 seconds RetCode: 0 Status: OK