Package: reconsi Version: 1.22.0 Command: /home/biocbuild/bbs-3.22-bioc/R/bin/R CMD build --keep-empty-dirs --no-resave-data --md5 reconsi StartedAt: 2025-11-16 19:42:48 -0500 (Sun, 16 Nov 2025) EndedAt: 2025-11-16 19:44:01 -0500 (Sun, 16 Nov 2025) EllapsedTime: 73.1 seconds RetCode: 0 Status: OK PackageFile: reconsi_1.22.0.tar.gz PackageFileSize: 129.1 KiB