Package: receptLoss Version: 1.22.0 Command: /home/biocbuild/bbs-3.22-bioc/R/bin/R CMD INSTALL receptLoss StartedAt: 2025-11-02 15:44:58 -0500 (Sun, 02 Nov 2025) EndedAt: 2025-11-02 15:45:30 -0500 (Sun, 02 Nov 2025) EllapsedTime: 31.2 seconds RetCode: 0 Status: OK