Package: rcellminer Version: 2.31.1 Command: /home/biocbuild/bbs-3.22-bioc/R/bin/R CMD INSTALL rcellminer StartedAt: 2025-10-24 15:25:00 -0400 (Fri, 24 Oct 2025) EndedAt: 2025-10-24 15:25:08 -0400 (Fri, 24 Oct 2025) EllapsedTime: 7.8 seconds RetCode: 0 Status: OK