Package: rawrr Version: 1.18.0 Command: /home/biocbuild/bbs-3.22-bioc/R/bin/R CMD INSTALL rawrr StartedAt: 2025-11-03 15:02:12 -0500 (Mon, 03 Nov 2025) EndedAt: 2025-11-03 15:02:15 -0500 (Mon, 03 Nov 2025) EllapsedTime: 3.3 seconds RetCode: 0 Status: OK